BEGIN:VCALENDAR
VERSION:2.0
PRODID:-//Squeaky Wheel Film &amp; Media Art Center - ECPv6.15.18//NONSGML v1.0//EN
CALSCALE:GREGORIAN
METHOD:PUBLISH
X-ORIGINAL-URL:https://squeaky.org
X-WR-CALDESC:Events for Squeaky Wheel Film &amp; Media Art Center
REFRESH-INTERVAL;VALUE=DURATION:PT1H
X-Robots-Tag:noindex
X-PUBLISHED-TTL:PT1H
BEGIN:VTIMEZONE
TZID:America/New_York
BEGIN:DAYLIGHT
TZOFFSETFROM:-0500
TZOFFSETTO:-0400
TZNAME:EDT
DTSTART:20160313T070000
END:DAYLIGHT
BEGIN:STANDARD
TZOFFSETFROM:-0400
TZOFFSETTO:-0500
TZNAME:EST
DTSTART:20161106T060000
END:STANDARD
BEGIN:DAYLIGHT
TZOFFSETFROM:-0500
TZOFFSETTO:-0400
TZNAME:EDT
DTSTART:20170312T070000
END:DAYLIGHT
BEGIN:STANDARD
TZOFFSETFROM:-0400
TZOFFSETTO:-0500
TZNAME:EST
DTSTART:20171105T060000
END:STANDARD
BEGIN:DAYLIGHT
TZOFFSETFROM:-0500
TZOFFSETTO:-0400
TZNAME:EDT
DTSTART:20180311T070000
END:DAYLIGHT
BEGIN:STANDARD
TZOFFSETFROM:-0400
TZOFFSETTO:-0500
TZNAME:EST
DTSTART:20181104T060000
END:STANDARD
BEGIN:DAYLIGHT
TZOFFSETFROM:-0500
TZOFFSETTO:-0400
TZNAME:EDT
DTSTART:20190310T070000
END:DAYLIGHT
BEGIN:STANDARD
TZOFFSETFROM:-0400
TZOFFSETTO:-0500
TZNAME:EST
DTSTART:20191103T060000
END:STANDARD
BEGIN:DAYLIGHT
TZOFFSETFROM:-0500
TZOFFSETTO:-0400
TZNAME:EDT
DTSTART:20200308T070000
END:DAYLIGHT
BEGIN:STANDARD
TZOFFSETFROM:-0400
TZOFFSETTO:-0500
TZNAME:EST
DTSTART:20201101T060000
END:STANDARD
END:VTIMEZONE
BEGIN:VEVENT
DTSTART;TZID=America/New_York:20190524T080000
DTEND;TZID=America/New_York:20190724T170000
DTSTAMP:20260421T071634
CREATED:20251230T191248Z
LAST-MODIFIED:20251230T191248Z
UID:10000767-1558684800-1563987600@squeaky.org
SUMMARY:CALL FOR SUBMISSIONS: LOCAL YOUTH SHORTS\, Buffalo International Film Festival
DESCRIPTION:DEADLINE EXTENDED – JULY 24th! \nYoung Filmmakers\, join us this fall at the Buffalo International Film Festival! Squeaky Wheel Film and Media Art Center and BIFF are seeking new\, creative works for our Local Student showcase. Local filmmakers under 18 can submit work under 15 minutes for FREE – the best films\, chosen by Squeaky Wheel’s youth jury will play on the big screen\, Saturday\, October 12 at the Buffalo International Film Festival! \nFilmmakers chosen by the jury will receive their own BIFF filmmaker badge\, have access to all BIFF screenings\, walk the red carpet at the North Park Theatre and participate in a post-screening Q & A with the audience! \n  \nSubmission Guidelines: \n\nPrincipal Filmmakers must be under 18 years old at the time of making the film\nIf you are submitting for a student please contact kevin@squeaky.org for details\nFilms can be no longer than 15 minutes including titles and credits\nExcerpts of longer works will be considered\nAll submissions must be either Vimeo or YouTube link\nSelected Filmmakers will be asked to provide a screener version of their film. \n\n \nAbout the Jury: \nOur Youth Jury is comprised of 6 students from all of our flagship media arts programs. They are all filmmakers with years of experience watching and making media arts & film. \n 
URL:https://squeaky.org/event/call-for-submissions-local-youth-shorts-buffalo-international-film-festival/
LOCATION:NY
CATEGORIES:Open Call
ATTACH;FMTTYPE=image/png:https://squeaky.org/wp-content/uploads/2019/05/web_Feat.png
END:VEVENT
BEGIN:VEVENT
DTSTART;VALUE=DATE:20180305
DTEND;VALUE=DATE:20180306
DTSTAMP:20260421T071634
CREATED:20251230T191125Z
LAST-MODIFIED:20251230T191125Z
UID:10000909-1520208000-1520294399@squeaky.org
SUMMARY:BRING YOUR OWN TONY
DESCRIPTION:Calling all friends\, students and collaborators of Tony Conrad to…BRING YOUR OWN TONY! Submit your work to be considered for a special screening of films and videos on May 11th in which the late artist appeared or participated. One of Squeaky Wheel’s founders\, Conrad was a prolific collaborator\, and never shied away from being part of the works of his community. In association with the exhibition\, Introducing Tony Conrad: A Retrospective\, BRING YOUR OWN TONY honors the artist’s collaborative spirit by highlighting a few of the many art projects\, both known and unknown\, that he enthusiastically participated in. Did Tony star in your zombie flick? Did he play the accordion in the corner of your performance-art video? Do you have a cellphone clip of him goofing around at the Lennox? Send us your work! \nArtists included in BRING YOUR OWN TONY will receive a $50 screening fee per work. All works will be screened in digital formats; if selected works have not been digitized\, Squeaky Wheel will contact you to discuss non-archival digital transfer options. \nCLICK HERE TO SUBMIT YOUR WORK!\n\nIntroducing Tony Conrad: A Retrospective is organized by the Albright-Knox Art Gallery with the support of the University at Buffalo Art Galleries. The exhibition’s community partners include Burchfield Penney Art Center\, Hallwalls Contemporary Art Center\, and Squeaky Wheel Film & Media Art Center. \nBanner image: Tony Conrad with a video camera\, c. mid-1990s. Image courtesy Tony Conrad Archives 
URL:https://squeaky.org/event/bring-your-own-tony/
LOCATION:NY
CATEGORIES:Open Call
ATTACH;FMTTYPE=image/jpeg:https://squeaky.org/wp-content/uploads/2018/01/2.-Tony-Camera-AKAG_mod.jpg
END:VEVENT
BEGIN:VEVENT
DTSTART;VALUE=DATE:20170407
DTEND;VALUE=DATE:20170409
DTSTAMP:20260421T071634
CREATED:20251230T191003Z
LAST-MODIFIED:20251230T191003Z
UID:10000642-1491595200-1491681599@squeaky.org
SUMMARY:Call for Submissions: Shape of a Pocket
DESCRIPTION:Deadline: April 8th\, 2017\, 11:59pm \nThe pocket in question is a small pocket of resistance. A pocket is formed when two or more people come together in agreement. The resistance is against the inhumanity of the new world economic order. – John Berger\, The Shape of a Pocket \nSqueaky Wheel is now accepting submissions to a juried\, thematic group exhibition inspired by the idea of “pockets of resistance.” Titled after John Berger’s book\, The Shape of a Pocket\, we invite artists in Western New York\, working in all forms of media arts (from video\, film\, sound\, emergent technologies\, performance\, and cross disciplinary platforms) to submit proposals engaging with the theme. How can the form of a work be a site of resistance? How can collaborative practices inform our ideas of activism in art? What does it mean for resistance to happen in an exhibition context? Work can address specific topics\, or embody these ideas in broader ways; artists are invited to interpret this theme according their specific concerns and practices. Shape of a Pocket will open in July 2017 and will be comprised of a gallery exhibition\, and a screening / performance section. \nEligibility:\nSubmissions are open to artists and collectives residing in the 17 counties of Western New York that comprise: Allegany\, Cattaraugus\, Chautauqua\, Chemung\, Erie\, Genesee\, Livingston\, Monroe\, Niagara\, Ontario\, Orleans\, Schuyler\, Seneca\, Steuben\, Wayne\, Wyoming\, and Yates. We encourage artists at any stage of their career to apply. \nSelected artists will receive:\nArtist fees according to W.A.G.E. baselines when applicable.\nA complimentary Squeaky Wheel membership (one year).\nProposed technical and installation support for the display of the work. See available presentation/installation equipment here (based on availability.)\nA community feedback forum for their work. \nSubmission Process:\nInclude links to support material\, as instructed in the form.\nArtists may submit up to three works for consideration. Each submission requires a separate application.\nNotifications about your submission will be sent out by April 30\, 2017.\nIncomplete applications will be disqualified; please check all links before submitting.\nContact ekrem@squeaky.org with any questions.\nSubmit by deadline: April 8th\, 2017\, 11:59pm. \nAPPLICATION FORM\n 
URL:https://squeaky.org/event/shape-of-a-pocket/
LOCATION:Squeaky Wheel\, 2495 Main Street\, Suite 310\, Buffalo\, NY\, 14214\, United States
CATEGORIES:Open Call
ATTACH;FMTTYPE=image/jpeg:https://squeaky.org/wp-content/uploads/2017/03/ShapeWeb.jpg
GEO:42.8906261;-78.8721258
X-APPLE-STRUCTURED-LOCATION;VALUE=URI;X-ADDRESS=Squeaky Wheel 2495 Main Street Suite 310 Buffalo NY 14214 United States;X-APPLE-RADIUS=500;X-TITLE=2495 Main Street\, Suite 310:geo:-78.8721258,42.8906261
END:VEVENT
END:VCALENDAR