BEGIN:VCALENDAR
VERSION:2.0
PRODID:-//Squeaky Wheel Film &amp; Media Art Center - ECPv6.15.18//NONSGML v1.0//EN
CALSCALE:GREGORIAN
METHOD:PUBLISH
X-ORIGINAL-URL:https://squeaky.org
X-WR-CALDESC:Events for Squeaky Wheel Film &amp; Media Art Center
REFRESH-INTERVAL;VALUE=DURATION:PT1H
X-Robots-Tag:noindex
X-PUBLISHED-TTL:PT1H
BEGIN:VTIMEZONE
TZID:America/New_York
BEGIN:DAYLIGHT
TZOFFSETFROM:-0500
TZOFFSETTO:-0400
TZNAME:EDT
DTSTART:20220313T070000
END:DAYLIGHT
BEGIN:STANDARD
TZOFFSETFROM:-0400
TZOFFSETTO:-0500
TZNAME:EST
DTSTART:20221106T060000
END:STANDARD
BEGIN:DAYLIGHT
TZOFFSETFROM:-0500
TZOFFSETTO:-0400
TZNAME:EDT
DTSTART:20230312T070000
END:DAYLIGHT
BEGIN:STANDARD
TZOFFSETFROM:-0400
TZOFFSETTO:-0500
TZNAME:EST
DTSTART:20231105T060000
END:STANDARD
BEGIN:DAYLIGHT
TZOFFSETFROM:-0500
TZOFFSETTO:-0400
TZNAME:EDT
DTSTART:20240310T070000
END:DAYLIGHT
BEGIN:STANDARD
TZOFFSETFROM:-0400
TZOFFSETTO:-0500
TZNAME:EST
DTSTART:20241103T060000
END:STANDARD
BEGIN:DAYLIGHT
TZOFFSETFROM:-0500
TZOFFSETTO:-0400
TZNAME:EDT
DTSTART:20250309T070000
END:DAYLIGHT
BEGIN:STANDARD
TZOFFSETFROM:-0400
TZOFFSETTO:-0500
TZNAME:EST
DTSTART:20251102T060000
END:STANDARD
BEGIN:DAYLIGHT
TZOFFSETFROM:-0500
TZOFFSETTO:-0400
TZNAME:EDT
DTSTART:20260308T070000
END:DAYLIGHT
BEGIN:STANDARD
TZOFFSETFROM:-0400
TZOFFSETTO:-0500
TZNAME:EST
DTSTART:20261101T060000
END:STANDARD
END:VTIMEZONE
BEGIN:VEVENT
DTSTART;TZID=America/New_York:20251103T100000
DTEND;TZID=America/New_York:20251103T120000
DTSTAMP:20260422T052100
CREATED:20251021T182041Z
LAST-MODIFIED:20251021T182041Z
UID:10001258-1762164000-1762171200@squeaky.org
SUMMARY:Wave Farm & NYSCA: Media Arts Breakfast Zoom with Squeaky and BIFF
DESCRIPTION:Monday\, November 3\, 2025\, 10:30 am – 12 pm\nOnline on zoom\nRegister here\nWaveFarm & NYSCA present their latest online convening in early November for the next Media Arts Breakfast with a focus on the media arts ecosystem in Buffalo\, NY\, along with updates from NYSCA’s Fabiana Chiu-Rinaldi and Wave Farm’s Galen Joseph-Hunter. Recent Media Arts Assistance Fund (MAAF) grantees Squeaky Wheel Film & Media Art Center and the Buffalo International Film Festival will share updates from MAAF-funded projects and will highlight recent and upcoming programming. Finally\, we’ll go round the room to hear updates from attendees! \nMeeting Agenda: \n\nWelcome and introductions from Wave Farm’s Galen Joseph-Hunter\nNYSCA updates from Fabiana Chiu-Rinaldi\nMAAF for Organizations grantees share short presentations:\n\nAnna Scime\, Executive Director of the Buffalo International Film Festival\nEkrem Serdar\, Curator at Squeaky Wheel Film & Media Art Center\n\n\nQ&A\nRound the Room updates from all of you!\n\nBanner image: Dense\, black and white television static.
URL:https://squeaky.org/event/wave-farm-nysca-media-arts-breakfast-zoom-with-squeaky-and-biff/
LOCATION:Squeaky Wheel\, 2495 Main Street\, Suite 310\, Buffalo\, NY\, 14214\, United States
CATEGORIES:Partners,Special Event,Virtual
ATTACH;FMTTYPE=image/jpeg:https://squeaky.org/wp-content/uploads/2025/10/static-noise.jpg
GEO:42.8906261;-78.8721258
X-APPLE-STRUCTURED-LOCATION;VALUE=URI;X-ADDRESS=Squeaky Wheel 2495 Main Street Suite 310 Buffalo NY 14214 United States;X-APPLE-RADIUS=500;X-TITLE=2495 Main Street\, Suite 310:geo:-78.8721258,42.8906261
END:VEVENT
BEGIN:VEVENT
DTSTART;VALUE=DATE:20230825
DTEND;VALUE=DATE:20231001
DTSTAMP:20260422T052100
CREATED:20251230T191523Z
LAST-MODIFIED:20251230T191523Z
UID:10001114-1692921600-1696118399@squeaky.org
SUMMARY:Amatryx Gaming Lab & Studio: Creativity in the Time of Covid-19
DESCRIPTION:Opening Friday\, August 25\, 5–8 pm\nOn view Tuesday–Fridays\, 12–5pm through September 30\, 2023\nFree and open to the public\nOrganized and curated by Amatryx Gaming Lab & Studio\, and presented at Squeaky Wheel\, Buffalo Arts Studio\, and Buffalo Game Space.\nAmatryx Gaming Lab & Studio presents Creativity in the Time of Covid-19\, an exhibition of pandemic artwork and creative expression. The exhibition is the outcome of a three year project examining how people ranging from professional artists to first-time creatives used creativity during the Covid-19 pandemic. The project defined creative expression broadly\, including traditional and experimental art forms as well as creative hobbies such gaming\, baking\, crocheting\, and much more. \nCreativity in the Time of Covid-19 is on display August 25-September 30\, 2023\, with an Opening Reception on Friday\, August 25\, 5:00–8:00 PM. There will be a series of short talks starting at 6:00 PM in the Buffalo Arts Studio gallery space\, featuring speakers Natalie Phillips (Michigan State University)\, Lawrence Carter-Long (DisArt)\, and members of the Amatryx lab. A closing reception will take place on September 22\, 2023 at 3:00 PM in the Buffalo Arts Studio gallery space\, and feature a talk by speaker Tina Rivers-Ryan (Buffalo AKG Art Museum). The exhibition and receptions are free and open to the public. \nCreativity in the Time of Covid-19 began with experiences common to many during the pandemic lockdowns: being stuck at home without physical access to the spaces and communities people were used to\, and looking for ways to connect\, fill the time\, and process varied emotions. The project partners\, including faculty from Michigan State University\, University at Buffalo\, Washington University in St. Louis\, and United States Naval Academy\, noticed how many people tried out new forms of creative expression or began new creative projects in response to the difficulties of life in lockdown. With the financial support of the Mellon Foundation\, the project partners surveyed thousands of people across many states and sixteen countries (ranging from the US to Korea to Indonesia and beyond) about their creative expression during the pandemic. The result of this work is a collection of thousands of experiences\, stories\, and creative works from around the world that gives a broad\, diverse picture of the role creativity played in living during the pandemic. \nCreative works from the collection will appear in a series of online and physical exhibitions with each partner organization beginning in Fall 2023 and running through Spring 2024. The first of these exhibitions is Amatryx Gaming Lab & Studio Presents: Creativity in the Time of Covid-19\, with community partners Buffalo Arts Studio\, Squeaky Wheel Film & Media Art Center\, and Buffalo Game Space. The Amatryx exhibition focuses particularly on LGBTQ+\, BIPOC (Black/Indigenous/Person of Color)\, and/or Western New York-based creative works. In doing so\, Director Cody Mejeur hopes that the exhibition will “prioritize the marginalized voices of communities often left out or forgotten in mainstream narratives.” As Mejeur notes\, LGBTQ+ and BIPOC communities were often some of the hardest hit during the pandemic\, and the Buffalo-based exhibition aims to start off the series by drawing attention to that trend and the people creating in these communities. \nAs part of the exhibition’s opening night\, the Amatryx Gaming Lab & Studio will also be launching the first full release of their current video game project\, Trans Folks Walking. Trans Folks Walking is a 3D\, first person narrative game made with Unity that explores experiences of trans embodiment\, being\, and mobility. The game currently puts players in several situations drawn from the experiences of trans folks in contemporary America\, ranging from the everyday such as using the bathroom through the particular such as being trans in a Christian church. The game creates space for trans folks to share their stories and for players to experience small parts of what it means to be trans. The game is intentionally designed as an anthology of short experiences that will grow in collaboration with trans people and their communities. The game will release on August 25\, 2023 for PC and Mac on the game website itch.io\, with a Steam release to follow. \nThe Buffalo exhibition contains creative work in many forms\, including paintings\, photographs\, films\, songs\, video games\, crochet\, zines\, and mixed media sculptures. These works will be spread across multiple gallery spaces in the Tri-Main Center\, with visual and physical appearing in Buffalo Arts Studio; film\, video\, and digital media in Squeaky Wheel Film & Media Art Center; and games and virtual reality in Buffalo Game Space. Participants are encouraged to explore works in each space on opening night\, and throughout the exhibition during each organization’s normal business hours. \nAmatryx Gaming Lab & Studio (AGLS) is a lab in the Department of Media Study at University at Buffalo dedicated to gaming\, virtual reality\, social justice\, and community storytelling projects. The lab combines cutting edge research on games\, culture\, and narrative with development projects in analogue\, digital\, and virtual reality games. Amatryx is committed to the diverse exploration of social justice narratives with intersectional queer and feminist values\, such as antinormativity\, relationality\, coalitionality\, and resistance. The lab thinks critically about play and narrative as means for imagining more equitable and transformative futures. \nFor more information\, please visit: \nAmatryx and Trans Folks Walking \nBuffalo Arts Studio \nBuffalo Game Space \nCreativity in the Time of Covid-19 \nCreativity in the Time of Covid-19 is made possible by a Just Futures Initiative grant from the Andrew W. Mellon Foundation. Image: Loom by TD. Image courtesy Amatryx Gaming Lab & Studio.
URL:https://squeaky.org/event/amatryx-gaming-lab-studio-creativity-in-the-time-of-covid-19/
LOCATION:Squeaky Wheel\, 2495 Main Street\, Suite 310\, Buffalo\, NY\, 14214\, United States
CATEGORIES:Exhibition,Partners
ATTACH;FMTTYPE=image/jpeg:https://squeaky.org/wp-content/uploads/2023/08/Loom.jpg
GEO:42.8906261;-78.8721258
X-APPLE-STRUCTURED-LOCATION;VALUE=URI;X-ADDRESS=Squeaky Wheel 2495 Main Street Suite 310 Buffalo NY 14214 United States;X-APPLE-RADIUS=500;X-TITLE=2495 Main Street\, Suite 310:geo:-78.8721258,42.8906261
END:VEVENT
END:VCALENDAR