BEGIN:VCALENDAR
VERSION:2.0
PRODID:-//Squeaky Wheel Film &amp; Media Art Center - ECPv6.15.18//NONSGML v1.0//EN
CALSCALE:GREGORIAN
METHOD:PUBLISH
X-ORIGINAL-URL:https://squeaky.org
X-WR-CALDESC:Events for Squeaky Wheel Film &amp; Media Art Center
REFRESH-INTERVAL;VALUE=DURATION:PT1H
X-Robots-Tag:noindex
X-PUBLISHED-TTL:PT1H
BEGIN:VTIMEZONE
TZID:America/New_York
BEGIN:DAYLIGHT
TZOFFSETFROM:-0500
TZOFFSETTO:-0400
TZNAME:EDT
DTSTART:20210314T070000
END:DAYLIGHT
BEGIN:STANDARD
TZOFFSETFROM:-0400
TZOFFSETTO:-0500
TZNAME:EST
DTSTART:20211107T060000
END:STANDARD
BEGIN:DAYLIGHT
TZOFFSETFROM:-0500
TZOFFSETTO:-0400
TZNAME:EDT
DTSTART:20220313T070000
END:DAYLIGHT
BEGIN:STANDARD
TZOFFSETFROM:-0400
TZOFFSETTO:-0500
TZNAME:EST
DTSTART:20221106T060000
END:STANDARD
BEGIN:DAYLIGHT
TZOFFSETFROM:-0500
TZOFFSETTO:-0400
TZNAME:EDT
DTSTART:20230312T070000
END:DAYLIGHT
BEGIN:STANDARD
TZOFFSETFROM:-0400
TZOFFSETTO:-0500
TZNAME:EST
DTSTART:20231105T060000
END:STANDARD
END:VTIMEZONE
BEGIN:VEVENT
DTSTART;TZID=America/New_York:20220428T190000
DTEND;TZID=America/New_York:20220428T210000
DTSTAMP:20260420T062649
CREATED:20251230T191436Z
LAST-MODIFIED:20251230T191436Z
UID:10001073-1651172400-1651179600@squeaky.org
SUMMARY:21st Annual Nichols School Flick Fest Student Film and Video Festival
DESCRIPTION:Call for submissions deadline: April 11\, 2022. Submit your films here.\nScreening: Thursday\, April 28\, 2022\, 7 pm\n@ North Park Theater (1428 Hertel Avenue\, Buffalo\, New York\, 14216)\nFree and open to the public\nSqueaky Wheel is excited to co-present the 21st edition of Nichols School’s fest for young media makers! The festival accepts entries by middle and high school students from all over Western New York. Student work submitted to the festival is judged by a panel of student filmmakers and curated into a single evening screening. Participation in the Flick Fest gives student filmmakers the opportunity to showcase their work to a Western New York audience\, meet fellow filmmakers\, and view work by their filmmaking peers. The festival committee works to make the evening entertaining and informative. In addition to the screening\, there is an award ceremony for the winning films\, with several cash prizes from $25-$50 dollars. \n \nBanner image: courtesy Nichols School. A comic strip like image with Spiderman holding a camera. The words Amazing Flick-Fest are overlaid on it.
URL:https://squeaky.org/event/21st-annual-nichols-school-flick-fest-student-film-and-video-festival/
LOCATION:North Park Theatre\, 1428 Hertel Avenue\, Buffalo\, NY\, 14216\, United States
CATEGORIES:Open Call,Screenings
ATTACH;FMTTYPE=image/jpeg:https://squeaky.org/wp-content/uploads/2022/04/flickfesst-fragment.jpg
END:VEVENT
END:VCALENDAR