BEGIN:VCALENDAR
VERSION:2.0
PRODID:-//Squeaky Wheel Film &amp; Media Art Center - ECPv6.15.18//NONSGML v1.0//EN
CALSCALE:GREGORIAN
METHOD:PUBLISH
X-ORIGINAL-URL:https://squeaky.org
X-WR-CALDESC:Events for Squeaky Wheel Film &amp; Media Art Center
REFRESH-INTERVAL;VALUE=DURATION:PT1H
X-Robots-Tag:noindex
X-PUBLISHED-TTL:PT1H
BEGIN:VTIMEZONE
TZID:America/New_York
BEGIN:DAYLIGHT
TZOFFSETFROM:-0500
TZOFFSETTO:-0400
TZNAME:EDT
DTSTART:20160313T070000
END:DAYLIGHT
BEGIN:STANDARD
TZOFFSETFROM:-0400
TZOFFSETTO:-0500
TZNAME:EST
DTSTART:20161106T060000
END:STANDARD
BEGIN:DAYLIGHT
TZOFFSETFROM:-0500
TZOFFSETTO:-0400
TZNAME:EDT
DTSTART:20170312T070000
END:DAYLIGHT
BEGIN:STANDARD
TZOFFSETFROM:-0400
TZOFFSETTO:-0500
TZNAME:EST
DTSTART:20171105T060000
END:STANDARD
BEGIN:DAYLIGHT
TZOFFSETFROM:-0500
TZOFFSETTO:-0400
TZNAME:EDT
DTSTART:20180311T070000
END:DAYLIGHT
BEGIN:STANDARD
TZOFFSETFROM:-0400
TZOFFSETTO:-0500
TZNAME:EST
DTSTART:20181104T060000
END:STANDARD
END:VTIMEZONE
BEGIN:VEVENT
DTSTART;TZID=America/New_York:20170426T160000
DTEND;TZID=America/New_York:20170426T180000
DTSTAMP:20260420T062651
CREATED:20251230T191002Z
LAST-MODIFIED:20251230T191002Z
UID:10000843-1493222400-1493229600@squeaky.org
SUMMARY:Bijou
DESCRIPTION:Wednesday\, April 27\, 2017\n8pm\n@ Dreamland\n$5 Suggested Donation\nIn collaboration with Just Buffalo\, on the occasion of Studio: Eileen Myles. \nSqueaky Wheel and Dreamland with Just Buffalo are pleased to present April’s Reel Queer film screening\, the groundbreaking erotic whirlwind Bijou. “A living\, breathing sensual and sensory experience”\, (Dangerous Minds) Wakefield Poole’s 1972 film is a transformative experience. The screening will be followed by discussion led by curator RE Katz. Special thanks to Vinegar Syndrome. \nBijou @ Reel Queer is presented in conjunction with Just Buffalo’s STUDIO reading featuring Eileen Myles\, which will take place at the Evergreen Commons on Thurs\, April 27\, 2017 at 7:30pm. \nBijou\nWakefield Poole\n75 min\, 1972 \n“Acclaimed director Wakefield Poole’s second feature\, the surreal and trippy Bijou\, set a new standard for explicit cinema when it opened in 1972. The film concerns a construction worker (Bill Harrison) who witnesses a car accident and pockets the female victim’s purse in which he discovers her invitation to a club named Bijou.” – Vinegar Syndrome
URL:https://squeaky.org/event/bijou/
LOCATION:Dreamland\, 387 Franklin St\, Buffalo\, 14202
CATEGORIES:Screenings
ATTACH;FMTTYPE=image/jpeg:https://squeaky.org/wp-content/uploads/2017/04/bijou.jpg
GEO:42.8956414;-78.8733422
X-APPLE-STRUCTURED-LOCATION;VALUE=URI;X-ADDRESS=Dreamland 387 Franklin St Buffalo 14202;X-APPLE-RADIUS=500;X-TITLE=387 Franklin St:geo:-78.8733422,42.8956414
END:VEVENT
END:VCALENDAR